BEGIN:VCALENDAR
VERSION:2.0
PRODID:-//ChamberMaster//Event Calendar 2.0//EN
METHOD:PUBLISH
X-PUBLISHED-TTL:P3D
REFRESH-INTERVAL:P3D
CALSCALE:GREGORIAN
BEGIN:VEVENT
DTSTART:20170914T230000Z
DTEND:20170915T003000Z
X-MICROSOFT-CDO-ALLDAYEVENT:FALSE
SUMMARY:Aging Safely at Home
DESCRIPTION:Join Home Helpers Home Care of Hinsdale for an evening of important information about staying safe at home as you age.\n\n	Learn about common causes and risk factors associated with falls and simple changes that can make your home safer.\n	Discover easy ways to improve balance and reduce the risk of falls in the home and elsewhere\n	Prepare for the unexpected with tips for disaster preparedness.\n\nSeniors\, their families and caregivers all are invited to this FREE presentation by Home Helpers Director of Education and Memory Care Services Jackie Raschke.\n\n \n\nEach participant will go home with a FREE environmental safety checklist to help evaluate the safety of their own homes\, or the home of a loved one.
X-ALT-DESC;FMTTYPE=text/html:Join Home Helpers Home Care of Hinsdale for an evening of important information about staying safe at home as you age.\n<ul>\n	<li>Learn about common causes and risk factors associated with falls and simple changes that can make your home safer.</li>\n	<li>Discover easy ways to improve balance and reduce the risk of falls in the home and elsewhere</li>\n	<li>Prepare for the unexpected with tips for disaster preparedness.</li>\n</ul>\nSeniors\, their families and caregivers all are invited to this FREE presentation by Home Helpers Director of Education and Memory Care Services Jackie Raschke.<br />\n&nbsp\;<br />\nEach participant will go home with a FREE environmental safety checklist to help evaluate the safety of their own homes\, or the home of a loved one.
LOCATION:Home Helpers Home Care 123 East Ogden Ave.\, Ste. 102A Hinsdale\, IL 60521
UID:e.7795.6731
SEQUENCE:3
DTSTAMP:20260425T031008Z
URL:http://wscci.chambermaster.com/events/details/aging-safely-at-home-6731
END:VEVENT

END:VCALENDAR
