BEGIN:VCALENDAR
VERSION:2.0
PRODID:-//ChamberMaster//Event Calendar 2.0//EN
METHOD:PUBLISH
X-PUBLISHED-TTL:P3D
REFRESH-INTERVAL:P3D
CALSCALE:GREGORIAN
BEGIN:VEVENT
DTSTART:20170520T210000Z
DTEND:20170521T010000Z
X-MICROSOFT-CDO-ALLDAYEVENT:FALSE
SUMMARY:Aspire's First Taste of Summer: Ben-A-Fit 6
DESCRIPTION:Join us for an evening of music\, food\, wine and beer and get a sneak peek at our groundbreaking brand new Career Academy! This 6th annual event for Aspire Careers and Aspire Living will feature live bands\, a beer garden\, food trucks\, raffles Career Academy tours and more!\n\nAspire's First Taste of Summer: Ben-A-Fit 6 is a celebration of the successes and personal growth of individuals with a developmental disability participating in Aspire's programs. The event was founded by Marc Adelman and his son Ben who has participated in Aspire programs for many years. Despite having Cerebral Palsy\, Ben set out to achieve three goals in his life   to live in the community\, to work in the emergency medical field and to volunteer for the fire department. With Aspire's help\, Ben has achieved all three goals!
X-ALT-DESC;FMTTYPE=text/html:<p style="text-align:center"><span style="color:rgb(0\, 0\, 0)\; font-family:arial\; font-size:16px">Join us for an evening of music\, food\, wine and beer and get a sneak peek at our groundbreaking brand new Career Academy! This 6th annual event for Aspire Careers and Aspire Living will feature live bands\, a beer garden\, food trucks\, raffles Career Academy tours and more!</span></p>\n\n<p style="text-align:center"><span style="font-family:arial\; font-size:12pt">Aspire&#39\;s First Taste of Summer: Ben-A-Fit 6 is a celebration of the successes and personal growth of individuals with a developmental disability participating in Aspire&#39\;s programs. The event was founded by Marc Adelman and his son Ben who has participated in Aspire programs for many years. Despite having Cerebral Palsy\, Ben set out to achieve three goals in his life &ndash\; to live in the community\, to work in the emergency medical field and to volunteer for the fire department. With Aspire&rsquo\;s help\, Ben has achieved all three goals!</span></p>\n
LOCATION:Aspire's new Career Academy 4110 Litt Drive Hillside\, IL 60162
UID:e.7795.5433
SEQUENCE:3
DTSTAMP:20260422T141046Z
URL:http://wscci.chambermaster.com/events/details/aspire-5433
END:VEVENT

END:VCALENDAR
