BEGIN:VCALENDAR
VERSION:2.0
PRODID:-//ChamberMaster//Event Calendar 2.0//EN
METHOD:PUBLISH
X-PUBLISHED-TTL:P3D
REFRESH-INTERVAL:P3D
CALSCALE:GREGORIAN
BEGIN:VEVENT
DTSTART:20170314T220000Z
DTEND:20170315T000000Z
X-MICROSOFT-CDO-ALLDAYEVENT:FALSE
SUMMARY:Chamber Chats
DESCRIPTION:Join WSCCI at Chamber Chats for contacts and cocktails! You're invited to connect with existing and future members\, learn more about the benefits of the Chamber\, and how to maximize your membership.\n\n \n\nWhen: Tuesday\, 3/14\, 5-7pm\n\nWhere:  Buck's Pit Stop\, 6501 S. Kane Ave\, Hodgkins\, IL 60525\n\n \n\nThese "open house"  quarterly events will offer light appetizers & drinks\, thoughtful conversation\, and endless opportunities.\n\n\nMembers and future members are welcome!
X-ALT-DESC;FMTTYPE=text/html:<div style="font-family: Calibri\,Helvetica\,Arial\,sans-serif\; font-size: 14pt\;"><span style="font-family:verdana\;">Join WSCCI at <span style="color:#DAA520\;">Chamber Chats</span> for contacts and cocktails! You&#39\;re invited to connect with existing and future members\, learn more about the benefits of the Chamber\, and how to maximize your membership.</span><br />\n&nbsp\;</div>\n\n<div style="color: #cf941c\; font-family: Calibri\,Helvetica\,Arial\,sans-serif\; font-size: 14pt\;"><span style="font-family:verdana\;"><span style="color:#DAA520\;">When: Tuesday\, 3/14\, 5-7pm</span></span></div>\n\n<div style="color: #0000ff\; font-family: Calibri\,Helvetica\,Arial\,sans-serif\; font-size: 14pt\;"><span style="font-family:verdana\;"><span style="color:#DAA520\;">Where: &nbsp\;Buck&#39\;s Pit Stop\, 6501 S. Kane Ave\, Hodgkins\, IL 60525</span></span></div>\n\n<div style="font-family: Calibri\,Helvetica\,Arial\,sans-serif\; font-size: 14pt\;">&nbsp\;</div>\n\n<div style="font-family: Calibri\,Helvetica\,Arial\,sans-serif\; font-size: 14pt\;"><span style="font-family:verdana\;">These &quot\;open house&quot\;&nbsp\; quarterly events will offer light appetizers &amp\; drinks\, thoughtful conversation\, and endless opportunities.</span></div>\n<br />\n<span style="font-family:verdana\;"><span style="font-size:18px\;">Members and future members are welcome<strong>! </strong></span></span>
LOCATION:Bucks's Pit Stop 6501 S Kane Ave Hodgkins\, IL 60525
UID:e.7795.5222
SEQUENCE:3
DTSTAMP:20260421T065643Z
URL:http://wscci.chambermaster.com/events/details/chamber-chats-5222
END:VEVENT

END:VCALENDAR
