BEGIN:VCALENDAR
VERSION:2.0
PRODID:-//ChamberMaster//Event Calendar 2.0//EN
METHOD:PUBLISH
X-PUBLISHED-TTL:P3D
REFRESH-INTERVAL:P3D
CALSCALE:GREGORIAN
BEGIN:VEVENT
DTSTART:20160121T140000Z
DTEND:20160121T153000Z
X-MICROSOFT-CDO-ALLDAYEVENT:FALSE
SUMMARY:CMAP/ULI "Developers Discussion"
DESCRIPTION:The West Suburban Chamber of Commerce and Industry (WSCCI) and the Urban Land Institute (ULI)\, in collaboration with the Chicago Metropolitan Agency for Planning (CMAP)\, are hosting a "Developers Dialogue" on the state of industrial development in the Chamber Service area.  Discussion topics will include: \n\n	Lessons learned from ULI's recent Technical Assistance Workshop on "cargo-oriented development" in the Village of Willow Springs\n	Best practices for site selection and site prep   what makes a site suitable for industrial vs. retail vs. service uses?\n	Best practices in using incentives to attract development\n	Strategies for low-staff communities to make connections with developers\n\n Panel:\n\nJerry Szatan\, Principal\, Szatan & Associates\n\nMatthew Otto\, Division Manager\, Apex Companies LLC\n\nMatt Milich\, Vice President\, Pearlmark\n\n\n\n\n\nINVITE ONLY
X-ALT-DESC;FMTTYPE=text/html:The West Suburban Chamber of Commerce and Industry (WSCCI) and the Urban Land Institute (ULI)\, in collaboration with the Chicago Metropolitan Agency for Planning (CMAP)\, are hosting a &ldquo\;Developers Dialogue&rdquo\; on the state of industrial development in the Chamber Service area.&nbsp\; Discussion topics will include:&nbsp\;\n<ul>\n	<li>Lessons learned from ULI&rsquo\;s recent Technical Assistance Workshop on &ldquo\;cargo-oriented development&rdquo\; in the Village of Willow Springs</li>\n	<li>Best practices for site selection and site prep &ndash\; what makes a site suitable for industrial vs. retail vs. service uses?</li>\n	<li>Best practices in using incentives to attract development</li>\n	<li>Strategies for low-staff communities to make connections with developers</li>\n</ul>\n&nbsp\;<strong><u>Panel:</u></strong><br />\nJerry Szatan\, <em>Principal\, Szatan &amp\; Associates</em><br />\nMatthew Otto\, <em>Division Manager\, Apex Companies LLC</em><br />\nMatt Milich\, <em>Vice President\, Pearlmark</em><br />\n<br />\n<br />\nINVITE ONLY
LOCATION:Holiday Inn and William Tell Countryside Conference Center 6201 Joliet Road Countryside\, IL 60525
UID:e.7795.3416
SEQUENCE:3
DTSTAMP:20260424T055320Z
URL:http://wscci.chambermaster.com/events/details/cmap-uli-developers-discussion-01-21-2016-3416
END:VEVENT

END:VCALENDAR
