BEGIN:VCALENDAR
VERSION:2.0
PRODID:-//ChamberMaster//Event Calendar 2.0//EN
METHOD:PUBLISH
X-PUBLISHED-TTL:P3D
REFRESH-INTERVAL:P3D
CALSCALE:GREGORIAN
BEGIN:VEVENT
DTSTART:20170422T170000Z
DTEND:20170422T230000Z
X-MICROSOFT-CDO-ALLDAYEVENT:FALSE
SUMMARY:Depot District Mini Golf Pub Crawl
DESCRIPTION:Grab your putter and 3 friends and tour the Depot District's repertoire of taverns and restaurants at the 13th Annual Depot District Mini-Golf Pub Crawl on Sat\, Apr 22.\n\n\n\nEach venue will display a handmade mini-golf green to challenge the event's spirited crowd! The event will tour Berwyn's Depot District and takes place rain or shine. Don't worry about the weather! Our free heated trolley will keep you covered. \n\n\n\nAll participants must bring their own putters. Not able to get together a 4-some this year? That's ok! Come as an individual\, meet your neighbors and make new friends!\n\n\n\nFoursomes are $40 early bird and $50 after 4/15. Individuals are $15. Pre-registration is open until Noon\, Fri\, Apr 21 at the "Register Now" button. \n\n\n\nThis event is brought to you by the Depot District Special Events Commission of the Berwyn Development Corporation.
X-ALT-DESC;FMTTYPE=text/html:<span style="background-color:rgb(255\, 255\, 255)\; color:rgb(51\, 51\, 51)">Grab your putter and 3 friends and tour the Depot District&#39\;s repertoire of taverns and restaurants at the </span><span style="color:rgb(51\, 51\, 51)">13th</span><span style="background-color:rgb(255\, 255\, 255)\; color:rgb(51\, 51\, 51)"> Annual Depot District Mini-Golf Pub Crawl on Sat\, Apr 22.</span><br />\n<br />\n<span style="background-color:rgb(255\, 255\, 255)\; color:rgb(51\, 51\, 51)">Each venue will display a handmade mini-golf green to challenge the event&#39\;s spirited crowd! The event will tour </span><span style="color:rgb(51\, 51\, 51)">Berwyn&#39\;s</span><span style="background-color:rgb(255\, 255\, 255)\; color:rgb(51\, 51\, 51)"> Depot District and takes place rain or shine. Don&#39\;t worry about the weather! Our free heated trolley will keep you covered.&nbsp\;</span><br />\n<br />\n<span style="background-color:rgb(255\, 255\, 255)\; color:rgb(51\, 51\, 51)">All participants must bring their own putters. Not able to get together a 4-some this year? That&#39\;s ok! Come as an individual\, meet your neighbors and make new friends!</span><br />\n<br />\n<span style="background-color:rgb(255\, 255\, 255)\; color:rgb(51\, 51\, 51)">Foursomes are $40 early bird and $50 after 4/15. Individuals are $15. Pre-registration is open until Noon\, Fri\, Apr 21 at the &quot\;Register Now&quot\; button.&nbsp\;</span><br />\n<br />\n<span style="background-color:rgb(255\, 255\, 255)\; color:rgb(51\, 51\, 51)">This event is brought to you by the Depot District Special Events Commission of the </span><span style="color:rgb(51\, 51\, 51)">Berwyn</span><span style="background-color:rgb(255\, 255\, 255)\; color:rgb(51\, 51\, 51)"> Development Corporation.</span>
LOCATION:Berwyn's Depot District - Shotgun start at Noon from our participating venues: Connies Restaurant Flapjack Brewery George's Tavern Godson's House of Slots\, Inc Lavergne's Tavern Off the Traxx Olive or Twist P Lounge Quan's Oasis The Garage Smokehouse & Bar The James Joyce Irish Pub The Outta Space Windsor Caf
UID:e.7795.5287
SEQUENCE:3
DTSTAMP:20260422T071510Z
URL:http://wscci.chambermaster.com/events/details/depot-district-mini-golf-pub-crawl-5287
END:VEVENT

END:VCALENDAR
