BEGIN:VCALENDAR
VERSION:2.0
PRODID:-//ChamberMaster//Event Calendar 2.0//EN
METHOD:PUBLISH
X-PUBLISHED-TTL:P3D
REFRESH-INTERVAL:P3D
CALSCALE:GREGORIAN
BEGIN:VEVENT
DTSTART:20161012T210000Z
DTEND:20161012T230000Z
X-MICROSOFT-CDO-ALLDAYEVENT:FALSE
SUMMARY:Heather and Vine Celebrates Fall
DESCRIPTION:Heather and Vine Celebrates Fall - Everyone's favorite time of year.  We have home decor items for inside and out.\n\n\n\nAlso items for the very popular Halloween.  If you haven't visited our charming little shop\, this is the time!\n\n\n\nPlease come meet our very talented and friendly staff and learn what we are about!  Refreshments will be served.\n\n\n\n* Parking is limited\, please plan to park in the side lot to the South
X-ALT-DESC;FMTTYPE=text/html:Heather and Vine Celebrates Fall -&nbsp\;Everyone&#39\;s favorite time of year.&nbsp\; We have home decor items for inside and out.<br />\n<br />\nAlso items for the very popular Halloween.&nbsp\; If you haven&#39\;t visited&nbsp\;our charming little shop\, this is the time!<br />\n<br />\nPlease come meet our very talented and friendly staff and&nbsp\;learn what we are about!&nbsp\;&nbsp\;Refreshments will be served.<br />\n<br />\n<span style="font-size:12px\;"><strong><em><span style="color:#FF0000\;"><span style="font-family:arial\;">* Parking is limited\, please plan to&nbsp\;park in the side lot to the South&nbsp\;</span></span></em></strong></span><br />\n&nbsp\;
LOCATION:6960 Wolf Road Indian Head Park\, IL 60525
UID:e.7795.4985
SEQUENCE:3
DTSTAMP:20260423T184330Z
URL:http://wscci.chambermaster.com/events/details/heather-and-vine-celebrates-fall-4985
END:VEVENT

END:VCALENDAR
