BEGIN:VCALENDAR
VERSION:2.0
PRODID:-//ChamberMaster//Event Calendar 2.0//EN
METHOD:PUBLISH
X-PUBLISHED-TTL:P3D
REFRESH-INTERVAL:P3D
CALSCALE:GREGORIAN
BEGIN:VEVENT
DTSTART:20170810T140000Z
DTEND:20170811T210000Z
X-MICROSOFT-CDO-ALLDAYEVENT:FALSE
SUMMARY:LEADERSHIP IN ACTION WORKSHOP
DESCRIPTION:Don't miss Lewis University's Leadership in Action Workshop! This 2-day workshop will emphasize leadership self-awareness while also teaching you how people function so you can increase your potential while helping them reach theirs. Continental breakfast and lunch will be served.
X-ALT-DESC;FMTTYPE=text/html:<p><span style="font-family:arial\,sans-serif\; font-size:12pt">Don&rsquo\;t miss Lewis University&rsquo\;s Leadership in Action Workshop! This 2-day workshop will emphasize leadership self-awareness while also teaching you how people function so you can increase your potential while helping them reach theirs. Continental breakfast and lunch will be served.</span></p>\n\n<p><span style="font-family:arial\,sans-serif\; font-size:12pt">&nbsp\;</span></p>\n
LOCATION:Lewis University Oak Brook Campus 1111 W. 22nd Street Suite 700 Oak Brook\, IL 60523
UID:e.7795.6705
SEQUENCE:3
DTSTAMP:20260420T043905Z
URL:http://wscci.chambermaster.com/events/details/leadership-in-action-workshop-6705
END:VEVENT

END:VCALENDAR
