BEGIN:VCALENDAR
VERSION:2.0
PRODID:-//ChamberMaster//Event Calendar 2.0//EN
METHOD:PUBLISH
X-PUBLISHED-TTL:P3D
REFRESH-INTERVAL:P3D
CALSCALE:GREGORIAN
BEGIN:VEVENT
DTSTART:20151027T230000Z
DTEND:20151028T013000Z
X-MICROSOFT-CDO-ALLDAYEVENT:FALSE
SUMMARY:NEXT STEPS Transition Series
DESCRIPTION:Fourth in a series of 5 workshops focused on helping high school students with disabilities move forward into adulthood. Session four is titled "Planning Ahead: Future Finances and Supports." Nancy Spain of Spain\, Spain\, & Varnet will be presenting on ways to set up your finances to protect and provide for your family member with a disability. Other issues that will be discussed will be public benefits\, Social Security support\, Guardianship and how to plan effectively. Materials will include information on writing a Letter of Intent and coordinating supports.
X-ALT-DESC;FMTTYPE=text/html:Fourth in a series of 5 workshops focused on helping high school students with disabilities move forward into adulthood. Session four is titled &quot\;Planning Ahead: Future Finances and Supports.&quot\; Nancy Spain of Spain\, Spain\, &amp\; Varnet will be presenting on ways to set up your finances to protect and provide for your family member with a disability. Other issues that will be discussed will be public benefits\, Social Security support\, Guardianship and how to plan effectively. Materials will include information on writing a Letter of Intent and coordinating supports.
LOCATION:Riverside Brookfield High School 160 W Ridgewood Rd Riverside\, IL 60546
UID:e.7795.2513
SEQUENCE:3
DTSTAMP:20260426T005138Z
URL:http://wscci.chambermaster.com/events/details/next-steps-transition-series-10-27-2015-2513
END:VEVENT

END:VCALENDAR
