BEGIN:VCALENDAR
VERSION:2.0
PRODID:-//ChamberMaster//Event Calendar 2.0//EN
METHOD:PUBLISH
X-PUBLISHED-TTL:P3D
REFRESH-INTERVAL:P3D
CALSCALE:GREGORIAN
BEGIN:VEVENT
DTSTART:20170222T140000Z
DTEND:20170222T153000Z
X-MICROSOFT-CDO-ALLDAYEVENT:FALSE
SUMMARY:RYPG Leadership Series #1
DESCRIPTION:Under 40 and looking for Leadership Training?\n\n\n\nJoin us as we kick off our BRAND NEW Regional Young Professionals Leadership Series!\n\n \n\nIn 2017\, we will feature quarterly sessions designed to inform\, engage and develop leadership skills that every person has within him or herself. The first session will discuss generational leadership.  \n\n\n\nAs a team of like-minded young professionals\, you will explore the values\, behaviors and attitudes of generational leaders and use that knowledge to assess your own style. \n\n\n\nThis FREE series is offered in conjunction with the Hinsdale\, Willowbrook/Burr Ridge and West Suburban Chambers of Commerce\, moderated by Ray Palys\, managing director of CoreStrata
X-ALT-DESC;FMTTYPE=text/html:<span style="font-size:18px\;"><span style="font-family:verdana\;"><strong>Under 40 and looking for Leadership Training?</strong><br />\n<br />\nJoin us as we kick off our <strong>BRAND NEW Regional Young Professionals Leadership Series!</strong><br />\n&nbsp\;<br />\nIn 2017\, we will feature quarterly sessions designed to inform\, engage and develop leadership skills that every person has within him or herself. The first session will discuss generational leadership.&nbsp\;&nbsp\;<br />\n<br />\nAs a team of like-minded young professionals\, you will explore the values\, behaviors and attitudes of generational leaders and use that knowledge to assess your own style.&nbsp\;<br />\n<br />\nThis FREE series is offered in conjunction with the Hinsdale\, Willowbrook/Burr Ridge and West Suburban Chambers of Commerce\, moderated by Ray Palys\, managing director of CoreStrata</span></span><br />\n&nbsp\;
LOCATION:MAX Aquatics 4751 South Vernon Ave McCook\, IL 60525
UID:e.7795.5246
SEQUENCE:3
DTSTAMP:20260419T224642Z
URL:http://wscci.chambermaster.com/events/details/rypg-leadership-series-1-5246
END:VEVENT

END:VCALENDAR
